BEGIN:VCALENDAR
VERSION:2.0
PRODID:-//tlcaurora.org//NONSGML kigkonsult.se iCalcreator 2.30.10//
CALSCALE:GREGORIAN
METHOD:PUBLISH
UID:84712730-c09e-41a4-a2f2-24a202d22b6e
X-WR-CALDESC:Lakeside 1 & 2 rented from May 3-6
X-WR-RELCALID:4127e04f8ae29bc301d96705bd7ce2c7
X-WR-TIMEZONE:America/Chicago
BEGIN:VTIMEZONE
TZID:America/Chicago
BEGIN:STANDARD
TZNAME:CST
DTSTART:20211107T020000
TZOFFSETFROM:-0500
TZOFFSETTO:-0600
RDATE:20221106T020000
END:STANDARD
BEGIN:DAYLIGHT
TZNAME:CDT
DTSTART:20220313T020000
TZOFFSETFROM:-0600
TZOFFSETTO:-0500
RDATE:20230312T020000
END:DAYLIGHT
END:VTIMEZONE
BEGIN:VEVENT
UID:2c97d7a0-aaad-45f3-99fd-991baef3127d
DTSTAMP:20260419T131936Z
DESCRIPTION:Lakeside 1 & 2 rented from May 3-6
DTSTART;TZID=America/Chicago:20220503T193000
DTEND;TZID=America/Chicago:20220506T203000
LOCATION:Lakeside 1 & 2
SUMMARY:Lakeside 1 & 2
END:VEVENT
END:VCALENDAR
